BEGIN:VCALENDAR
VERSION:2.0
PRODID:-//ChamberMaster//Event Calendar 2.0//EN
METHOD:PUBLISH
X-PUBLISHED-TTL:P3D
REFRESH-INTERVAL:P3D
CALSCALE:GREGORIAN
BEGIN:VEVENT
DTSTART:20111209T000000Z
DTEND:20111209T010000Z
X-MICROSOFT-CDO-ALLDAYEVENT:FALSE
SUMMARY:Total Joint Education Class
DESCRIPTION:These classes meet from 7:00 pm.-8:00 pm.\, the 2nd Thursday of each month\, in the Short Stay Waiting Room on the hospital's first floor. Physical therapists\, nurses\, and other professionals provide information and demonstrations to patients who are considering\, or scheduling total knee or total hip replacements. For more information\, or to register for the December 8th class\, call 951-4357.
X-ALT-DESC;FMTTYPE=text/html:<p class="MsoNormal" style="margin: 0in 0in 0pt\; text-align: justify">\n	<span style="font-family: calibri\; mso-bidi-font-weight: bold"><font size="2"><font color="#000000"><font face="Times New Roman">These classes meet from 7:00 pm.-8:00 pm.\, the 2<sup>nd</sup> Thursday of each month\, in the Short Stay Waiting Room on the hospital&rsquo\;s first floor. Physical therapists\, nurses\, and other professionals provide information and demonstrations to patients who are considering\, or scheduling total knee or total hip replacements. For more information\, or to register for the December 8<sup>th</sup> class\, call 951-4357.<span style="mso-spacerun: yes">&nbsp\; </span></font></font></font><o:p></o:p></span></p>\n
LOCATION:Annie Penn Hospital's Short Stay Waiting Room
UID:e.111.2070
SEQUENCE:3
DTSTAMP:20260421T174046Z
URL:https://business.reidsvillechamber.org/events/details/total-joint-education-class-12-08-2011-2070
END:VEVENT

END:VCALENDAR
