BEGIN:VCALENDAR
VERSION:2.0
PRODID:-//ChamberMaster//Event Calendar 2.0//EN
METHOD:PUBLISH
X-PUBLISHED-TTL:P3D
REFRESH-INTERVAL:P3D
CALSCALE:GREGORIAN
BEGIN:VEVENT
DTSTART:20111204T210000Z
DTEND:20111204T230000Z
X-MICROSOFT-CDO-ALLDAYEVENT:FALSE
SUMMARY:Tree of Hope Lighting Ceremony
DESCRIPTION:The Annie Penn Auxiliary will hold their annual Tree of Hope Lighting Ceremony on Sunday\, December 4th\, at 4:00 pm. This year's event will begin with the lighting at the live tree lighting at the Main Street Entrance. Annie Penn Hospital employees and volunteers will provide musical entertainment\, and holiday refreshments will be served in the Annie Penn Cafeteria following the outdoor tree lighting. The event is free and is open to the public.  Individuals or Groups may purchase lights for $5\, or starlights for $25 to honor or remember a loved one during the holiday season. Names will be written on the hospital windows\, and an acknowledgement will be mailed to the family. Forms are available at hospital information desks\, as well as area churches. For more information\, please call 951-4595\, or 951-4559.
X-ALT-DESC;FMTTYPE=text/html:<span style="font-size: 10pt\; font-family: calibri\; mso-fareast-font-family: 'times new roman'\; mso-bidi-font-family: 'times new roman'\; mso-ansi-language: en-us\; mso-fareast-language: en-us\; mso-bidi-language: ar-sa"><font color="#000000" face="Times New Roman">The Annie Penn Auxiliary will hold their annual <span style="mso-bidi-font-weight: bold">Tree of<b> Hope </b>Lighting Ceremony</span> on <b>Sunday\, December 4th</b>\, at 4:00 pm. This year&rsquo\;s event will begin with the lighting at the live tree lighting at the Main Street Entrance. <i style="mso-bidi-font-style: normal">Annie Penn Hospital employees and volunteers</i> will provide musical entertainment\, and holiday refreshments will be served in the Annie Penn Cafeteria following the outdoor tree lighting. The event is free and is open to the public.<span style="mso-spacerun: yes">&nbsp\; </span>Individuals or Groups may purchase lights for $5\, or starlights for $25 to honor or remember a loved one during the holiday season. Names will be written on the hospital windows\, and an acknowledgement will be mailed to the family. Forms are available at hospital information desks\, as well as area churches. For more information\, please call 951-4595\, or 951-4559.</font></span>
LOCATION:Annie Penn Hospital
UID:e.111.2074
SEQUENCE:3
DTSTAMP:20260421T192644Z
URL:https://business.reidsvillechamber.org/events/details/tree-of-hope-lighting-ceremony-12-04-2011-2074
END:VEVENT

END:VCALENDAR
