BEGIN:VCALENDAR
VERSION:2.0
PRODID:-//ChamberMaster//Event Calendar 2.0//EN
METHOD:PUBLISH
X-PUBLISHED-TTL:P3D
REFRESH-INTERVAL:P3D
CALSCALE:GREGORIAN
BEGIN:VEVENT
DTSTART:20101205T210000Z
DTEND:20101205T220000Z
X-MICROSOFT-CDO-ALLDAYEVENT:FALSE
SUMMARY:Tree of Hope LIghting Ceremony
DESCRIPTION:The Annie Penn Hospital Auxiliary will hold their annual Tree of Hope Lighting Ceremony on Sunday\, December 5\, 2010\, at 4:00 pm.  This year's event will begin with the lighting at the live tree at the Main Street Entrance.  The Annie Penn Holiday Singers will provide musical entertainment\, and holiday refreshments will be served in the Annie Penn Dining Room following the tree lighting.  The event is free and is open to the public.  Individuals or groups may purchase lights for $5\, or starlights for $25 to honor or remember a loved one during the holiday season.  Names will be written on the hospital windows\, and an acknowledgement will be mailed to the family.  Forms are available at hospital information desks\, as well as area churches.
X-ALT-DESC;FMTTYPE=text/html:The Annie Penn Hospital Auxiliary will hold their annual Tree of Hope Lighting Ceremony on Sunday\, December 5\, 2010\, at 4:00 pm.&nbsp\; This year&#39\;s event will begin with the lighting at the live tree at the Main Street Entrance.&nbsp\; The Annie Penn Holiday Singers will provide musical entertainment\, and holiday refreshments will be served in the Annie Penn&nbsp\;Dining Room&nbsp\;following the&nbsp\;tree lighting.&nbsp\; The event is free and is open to the public.&nbsp\; Individuals or groups may purchase lights for $5\, or starlights for $25 to honor or remember a loved one during the holiday season.&nbsp\; Names will be written on the hospital windows\, and an acknowledgement will be mailed to the family.&nbsp\; Forms are available at hospital information desks\, as well as area churches.&nbsp\; 
LOCATION:Annie Penn Hospital - 618 S. Main Street\, Reidsville\, NC (Main Street Entrance)
UID:e.111.777
SEQUENCE:3
DTSTAMP:20260424T004316Z
URL:https://business.reidsvillechamber.org/events/details/tree-of-hope-lighting-ceremony-12-05-2010-777
END:VEVENT

END:VCALENDAR
