BEGIN:VCALENDAR
VERSION:2.0
PRODID:-//ChamberMaster//Event Calendar 2.0//EN
METHOD:PUBLISH
X-PUBLISHED-TTL:P3D
REFRESH-INTERVAL:P3D
CALSCALE:GREGORIAN
BEGIN:VEVENT
DTSTART:20110212T180000Z
DTEND:20110212T180000Z
X-MICROSOFT-CDO-ALLDAYEVENT:FALSE
SUMMARY:Triple Bowl Server Clay Workshop at Everyday Art Gallery\, Gifts & Studio
DESCRIPTION:TRIPLE BOWL SERVER with Dottie Talley\n\nNew class! Using simple pinch-pot techniques create a triple well condiment dish from clay. Finished projects will be perfect for salsa\, sour cream\, olives ~ mustard\, ketchup\, mayo ~ paperclips\, rubber bands and stamps!
X-ALT-DESC;FMTTYPE=text/html:TRIPLE BOWL SERVER with Dottie Talley\n<br>New class! Using simple pinch-pot techniques create a triple well condiment dish from clay. Finished projects will be perfect for salsa\, sour cream\, olives ~ mustard\, ketchup\, mayo ~ paperclips\, rubber bands and stamps!
LOCATION:Everyday Art upstairs studio\; 209 SW Market Street\, Reidsville\, NC 27320
UID:e.111.1591
SEQUENCE:3
DTSTAMP:20260423T213041Z
URL:https://business.reidsvillechamber.org/events/details/triple-bowl-server-clay-workshop-at-everyday-art-gallery-gifts-studio-02-12-2011-1591
END:VEVENT

END:VCALENDAR
