BEGIN:VCALENDAR
VERSION:2.0
PRODID:-//ChamberMaster//Event Calendar 2.0//EN
METHOD:PUBLISH
X-PUBLISHED-TTL:P3D
REFRESH-INTERVAL:P3D
CALSCALE:GREGORIAN
BEGIN:VEVENT
DTSTART:20100324T124500Z
DTEND:20100325T010000Z
X-MICROSOFT-CDO-ALLDAYEVENT:FALSE
SUMMARY:Triple Ribbon Cutting & open houses
DESCRIPTION:Join in the fun of the first ever triple ribbon cutting!!!Three new businesses hosting ribbon cuttings and open houses on together.   The Reidsville Chamber is happy to announce this exciting event to celebrate the opening of Dream by Dream Vacations\, the new location and ownership of Southern Screen Printing Graphics\, and the bakery-"A Piece of Cake" The festivities start at 116 Settle Street at the Dream by Dream Travel\, then we will step next door to the new location of Southern Screen Printing & Graphics.  We will then end up at A Piece of Cake located around the corner at 301 SW Market Street.The morning will be filled with surprises and treats\, so be sure to join us!
X-ALT-DESC;FMTTYPE=text/html:<div style="text-align: center"><span style="font-size: medium">Join in the fun of the first ever triple ribbon cutting!!!</span></div><div style="text-align: center"><span style="font-size: medium">Three new businesses hosting ribbon cuttings and open houses on together.&nbsp\; </span></div><div style="text-align: center">&nbsp\;</div><div style="text-align: center"><span style="font-size: medium">The Reidsville Chamber is happy to announce this exciting event to celebrate the opening of</span> <span style="font-size: medium">Dream by Dream Vacations\, the new location and ownership of Southern Screen Printing Graphics\, and the bakery-&quot\;A Piece of Cake&quot\;</span></div><div style="text-align: center">&nbsp\;</div><div style="text-align: center"><span style="font-size: medium">The festivities start at 116 Settle Street at the Dream by Dream Travel\, then we will step next door to the new location of Southern Screen Printing &amp\; Graphics.&nbsp\; We will then end up at A Piece of Cake located around the corner at 301 SW Market Street.</span></div><div style="text-align: center"><span style="font-size: medium">The morning will be filled with surprises and treats\, so be sure to join us!</span></div><div style="text-align: center">&nbsp\;</div>
LOCATION:
UID:e.111.1349
SEQUENCE:3
DTSTAMP:20260424T170246Z
URL:https://business.reidsvillechamber.org/events/details/triple-ribbon-cutting-open-houses-03-24-2010-1349
END:VEVENT

END:VCALENDAR
