BEGIN:VCALENDAR
VERSION:2.0
PRODID:-//ChamberMaster//Event Calendar 2.0//EN
METHOD:PUBLISH
X-PUBLISHED-TTL:P3D
REFRESH-INTERVAL:P3D
CALSCALE:GREGORIAN
BEGIN:VEVENT
DTSTART:20110830T110000Z
DTEND:20110830T200000Z
X-MICROSOFT-CDO-ALLDAYEVENT:FALSE
SUMMARY:Uniform and Shoe Sale
DESCRIPTION:Annie Penn Hospital's Employee Council will hold a Uniform and Shoe Sale on Tuesday\, August 30th from 7:00 AM - 4:00 PM in Womankind Center on the hospital's fourth floor.  Cash\, checks\, credit cards will be accepted. Payroll deduction through Quick Charge will be available to Annie Penn employees. The public is invited to the sale.
X-ALT-DESC;FMTTYPE=text/html:<span style="font-size: 11pt\; font-family: calibri\; mso-bidi-font-size: 10.0pt\; mso-fareast-font-family: 'times new roman'\; mso-bidi-font-family: 'comic sans ms'\; mso-ansi-language: en-us\; mso-fareast-language: en-us\; mso-bidi-language: ar-sa"><font color="#000000" face="Times New Roman">Annie Penn Hospital&rsquo\;s Employee Council will hold a Uniform and Shoe Sale on <b style="mso-bidi-font-weight: normal">Tuesday\, August 30th</b> from 7:00 AM - 4:00 PM in Womankind Center on the hospital&rsquo\;s fourth floor.<span style="mso-spacerun: yes">&nbsp\; </span>Cash\, checks\, credit cards will be accepted. Payroll deduction through Quick Charge will be available to Annie Penn employees. The public is invited to the sale.</font></span>
LOCATION:Annie Penn Hospital
UID:e.111.1965
SEQUENCE:3
DTSTAMP:20260423T121503Z
URL:https://business.reidsvillechamber.org/events/details/uniform-and-shoe-sale-08-30-2011-1965
END:VEVENT

END:VCALENDAR
