BEGIN:VCALENDAR
VERSION:2.0
PRODID:-//ChamberMaster//Event Calendar 2.0//EN
METHOD:PUBLISH
X-PUBLISHED-TTL:P3D
REFRESH-INTERVAL:P3D
CALSCALE:GREGORIAN
BEGIN:VEVENT
DTSTART:20111108T223000Z
DTEND:20111108T233000Z
X-MICROSOFT-CDO-ALLDAYEVENT:FALSE
SUMMARY:Unit 300 Open House and Ribbon Cutting at Annie Penn Hospital
DESCRIPTION:Join Annie Penn Hospital in a "sneak peak" into the future at an open house for the newly-renovated patient rooms in the first phase of the three-phase project that will completely revamp the Annie Penn Hospital inpatient care areas. The event begins at 5:30 p.m. on Unit 300. Tours of the renovated area will be provided by staff and refreshments will be served.
X-ALT-DESC;FMTTYPE=text/html:<span style="font-size: 11pt\; font-family: calibri\; mso-fareast-font-family: 'times new roman'\; mso-bidi-font-family: 'courier new'\; mso-ansi-language: en-us\; mso-fareast-language: en-us\; mso-bidi-language: ar-sa\; mso-bidi-font-weight: bold"><font color="#000000" face="Times New Roman">Join Annie Penn Hospital in a &ldquo\;sneak peak&rdquo\; into the future at an open house for the newly-renovated patient rooms in the first phase of the three-phase project that will completely revamp the Annie Penn Hospital inpatient care areas. The event begins at 5:30 p.m. on Unit 300. Tours of the renovated area will be provided by staff and refreshments will be served.</font></span>
LOCATION:Annie Penn Hospital-Unit 300
UID:e.111.2061
SEQUENCE:3
DTSTAMP:20260421T193147Z
URL:https://business.reidsvillechamber.org/events/details/unit-300-open-house-and-ribbon-cutting-at-annie-penn-hospital-11-08-2011-2061
END:VEVENT

END:VCALENDAR
