BEGIN:VCALENDAR
VERSION:2.0
PRODID:-//ChamberMaster//Event Calendar 2.0//EN
METHOD:PUBLISH
X-PUBLISHED-TTL:P3D
REFRESH-INTERVAL:P3D
CALSCALE:GREGORIAN
BEGIN:VEVENT
DTSTART;VALUE=DATE:20141010
DTEND;VALUE=DATE:20141012
TRANSP:TRANSPARENT
X-MICROSOFT-CDO-ALLDAYEVENT:TRUE
SUMMARY:UNITED METHODIST WOMEN ANNUAL YARD SALE
DESCRIPTION:UNITED METHODIST WOMEN\n\nANNUAL YARD SALE\n\nFriday\, October 10\n\nStarting at 9:00 am lasting till 4:00 pm\n\n&\n\nSaturday\, October 11\n\nStarting at 8:00 am lasting till 1:00 pm\n\n \n\nAll proceeds support local mission projects.
X-ALT-DESC;FMTTYPE=text/html:<strong><span style="font-size:16.0pt\;">UNITED METHODIST WOMEN</span></strong><br />\n<strong><span style="font-size:16.0pt\;">ANNUAL YARD SALE</span></strong><br />\n<span style="font-size:16.0pt\;">Friday\, October 10</span><br />\n<span style="font-size:16.0pt\;">Starting at 9:00 am lasting till 4:00 pm</span><br />\n<span style="font-size:16.0pt\;">&amp\;</span><br />\n<span style="font-size:16.0pt\;">Saturday\, October 11</span><br />\n<span style="font-size:16.0pt\;">Starting at 8:00 am lasting till 1:00 pm</span><br />\n&nbsp\;<br />\n<span style="font-size:16.0pt\;">All proceeds support local mission projects.</span><br />\n&nbsp\;
LOCATION:
UID:e.111.2941
SEQUENCE:3
DTSTAMP:20260422T195825Z
URL:https://business.reidsvillechamber.org/events/details/united-methodist-women-annual-yard-sale-10-10-2014-2941
END:VEVENT

END:VCALENDAR
