BEGIN:VCALENDAR
VERSION:2.0
PRODID:-//ChamberMaster//Event Calendar 2.0//EN
METHOD:PUBLISH
X-PUBLISHED-TTL:P3D
REFRESH-INTERVAL:P3D
CALSCALE:GREGORIAN
BEGIN:VEVENT
DTSTART:20110604T120000Z
DTEND:20110604T140000Z
X-MICROSOFT-CDO-ALLDAYEVENT:FALSE
SUMMARY:United States Marine Corp Reserves Toys for Tots Duathlon & 5K
DESCRIPTION:Click Here for event flyer
X-ALT-DESC;FMTTYPE=text/html:<a href="http://cloud.chambermaster.com/userfiles/UserFiles/chambers/111/File/2011%20TFT%20Duathlon_edit.pdf"><br />\nClick Here for event flyer</a>
LOCATION:Begins and ends at Reidsville YMCA
UID:e.111.1914
SEQUENCE:3
DTSTAMP:20260423T152617Z
URL:https://business.reidsvillechamber.org/events/details/united-states-marine-corp-reserves-toys-for-tots-duathlon-5k-06-04-2011-1914
END:VEVENT

END:VCALENDAR
