BEGIN:VCALENDAR
VERSION:2.0
PRODID:-//ChamberMaster//Event Calendar 2.0//EN
METHOD:PUBLISH
X-PUBLISHED-TTL:P3D
REFRESH-INTERVAL:P3D
CALSCALE:GREGORIAN
BEGIN:VEVENT
DTSTART;VALUE=DATE:20110908
DTEND;VALUE=DATE:20110909
TRANSP:TRANSPARENT
X-MICROSOFT-CDO-ALLDAYEVENT:TRUE
SUMMARY:United Way of Rockingham County
DESCRIPTION:The United Way of Rockingham County 2011 Campaign: 1. Thursday\, September 8\, 2011\, 8 AM till 9 AM\, at the Rockingham Coummunity College Student Center (lower level)- 2011 United Way Campaign Kickoff 2. Thursday\, September 22\, 2011\, 6:30 PM till 8 PM\, at the Chinqua-Penn Plantation - United Way Pillar Society Dinner More information about these events will be forthcoming.
X-ALT-DESC;FMTTYPE=text/html:<p>\n	<span style="font-family: 'arial'\, 'sans-serif'\; font-size: 10pt\; mso-fareast-font-family: calibri\; mso-fareast-theme-font: minor-latin\; mso-ansi-language: en-us\; mso-fareast-language: en-us\; mso-bidi-language: ar-sa"><font color="#000000">The United Way of Rockingham County 2011 Campaign: 1. Thursday\, September 8\, 2011\, 8 AM till 9 AM\, at the Rockingham Coummunity College Student Center (lower level)- 2011 United Way Campaign Kickoff 2. Thursday\, September 22\, 2011\, 6:30 PM till 8 PM\, at the Chinqua-Penn Plantation - United Way Pillar Society Dinner More information about these events will be forthcoming. </font></span></p>\n
LOCATION:Campaign 1- Rockingham Coummunity College Student Center (lower level) Campagn 2- Chinqua-Penn Plantation
UID:e.111.1957
SEQUENCE:3
DTSTAMP:20260423T104548Z
URL:https://business.reidsvillechamber.org/events/details/united-way-of-rockingham-county-09-08-2011-1957
END:VEVENT

END:VCALENDAR
