BEGIN:VCALENDAR
VERSION:2.0
PRODID:-//ChamberMaster//Event Calendar 2.0//EN
METHOD:PUBLISH
X-PUBLISHED-TTL:P3D
REFRESH-INTERVAL:P3D
CALSCALE:GREGORIAN
BEGIN:VEVENT
DTSTART:20110603T111500Z
DTEND:20110603T120000Z
X-MICROSOFT-CDO-ALLDAYEVENT:FALSE
SUMMARY:Wal-Mart Grand Re-Opening & Ribbon Cutting
DESCRIPTION:Wal-Mart has remodeled\, so come out and join them for their Grand Re-Opening and Ribbon Cutting.
X-ALT-DESC;FMTTYPE=text/html:Wal-Mart has remodeled\, so come out and join them for their Grand Re-Opening and Ribbon Cutting.<br />\n
LOCATION:1624 N.C. 14 Reidsville
UID:e.111.1926
SEQUENCE:3
DTSTAMP:20260423T152220Z
URL:https://business.reidsvillechamber.org/events/details/wal-mart-grand-re-opening-ribbon-cutting-06-03-2011-1926
END:VEVENT

END:VCALENDAR
