BEGIN:VCALENDAR
VERSION:2.0
PRODID:-//ChamberMaster//Event Calendar 2.0//EN
METHOD:PUBLISH
X-PUBLISHED-TTL:P3D
REFRESH-INTERVAL:P3D
CALSCALE:GREGORIAN
BEGIN:VEVENT
DTSTART:20100806T213000Z
DTEND:20100806T230000Z
X-MICROSOFT-CDO-ALLDAYEVENT:FALSE
SUMMARY:Way Cup Coffee - Wine Tasting of Grove and Chinqua Penn's Fine Wines
DESCRIPTION:Way Cup Coffee8460-C NC Highway NC 87Wentworth\, NC394-4836Invites you to join us onFriday\, August 6\, 2010  @ 5.30 pm For a Wine Tasting of Grove and ChinquaPenn's Fine Wine$5.00 per person(must be 21 years of age)Includes a tasting of 6 different wines Cheese and cracker plates available
X-ALT-DESC;FMTTYPE=text/html:<div><div style="margin: 0in 0in 0pt" align="center">&nbsp\;</div><div style="margin: 0in 0in 0pt" align="center"><span style="color: #993366"><span style="font-size: xx-large"><span style=""><span style=""><b><span style="">Way Cup Coffee</span></b></span></span></span></span></div><div style="margin: 0in 0in 0pt" align="center"><b><span style="font-size: 24pt">8460-C NC Highway NC 87</span></b></div><div style="margin: 0in 0in 0pt" align="center"><b><span style="font-size: 24pt">Wentworth</span></b><b><span style="font-size: 24pt">\, NC</span></b></div><div style="margin: 0in 0in 0pt" align="center"><b><span style="font-size: 24pt">394-4836</span></b></div><div style="margin: 0in 0in 0pt" align="center"><b><span style="font-size: 36pt">Invites you to join us on</span></b></div><div style="margin: 0in 0in 0pt" align="center"><b><span style="font-size: 36pt">Friday\, August 6\, 2010 </span></b></div><div style="margin: 0in 0in 0pt" align="center"><b><span style="font-size: 36pt">&nbsp\;@ 5.30 pm </span></b></div><div style="margin: 0in 0in 0pt" align="center"><b><span style="font-size: 36pt">For a Wine Tasting of </span></b></div><div style="margin: 0in 0in 0pt" align="center"><b><span style="font-size: 36pt">Grove and ChinquaPenn&rsquo\;s </span></b></div><div style="margin: 0in 0in 0pt" align="center"><b><span style="font-size: 36pt">Fine Wine</span></b></div><div style="margin: 0in 0in 0pt" align="center"><b><span style="font-size: 36pt">$5.00 per person</span></b></div><div style="margin: 0in 0in 0pt" align="center"><b><span style="font-size: 22pt">(must be 21 years of age)</span></b></div><div style="margin: 0in 0in 0pt" align="center"><b><span style="font-size: 22pt">Includes a tasting of 6 different wines&nbsp\;</span></b></div><div style="margin: 0in 0in 0pt" align="center"><b><span style="font-size: 22pt">Cheese and cracker plates available</span></b></div></div>
LOCATION:
UID:e.111.1492
SEQUENCE:3
DTSTAMP:20260424T071900Z
URL:https://business.reidsvillechamber.org/events/details/way-cup-coffee-wine-tasting-of-grove-and-chinqua-penn-s-fine-wines-08-06-2010-1492
END:VEVENT

END:VCALENDAR
