BEGIN:VCALENDAR
VERSION:2.0
PRODID:-//ChamberMaster//Event Calendar 2.0//EN
METHOD:PUBLISH
X-PUBLISHED-TTL:P3D
REFRESH-INTERVAL:P3D
CALSCALE:GREGORIAN
BEGIN:VEVENT
DTSTART:20100827T213000Z
DTEND:20100827T230000Z
X-MICROSOFT-CDO-ALLDAYEVENT:FALSE
SUMMARY:Way Cup Wine Tasting
DESCRIPTION:Way Cup Coffee8460-C NC Highway NC 87Wentworth\, NC394-4836 Invites you to join us onFriday\, August 27\, 2010  @ 5.30 pm For a Wine Tasting We will bring in the school year with a toast of 6 different wines including ChinquaPenn's Red Muscadine $5.00 per person(must be 21 years of age)
X-ALT-DESC;FMTTYPE=text/html:<div><div style="margin: 0in 0in 0pt" align="center">&nbsp\;</div><div style="margin: 0in 0in 0pt" align="center"><b><span style="font-size: 24pt">Way Cup Coffee</span></b></div><div style="margin: 0in 0in 0pt" align="center"><b><span style="font-size: 24pt">8460-C NC Highway NC 87</span></b></div><div style="margin: 0in 0in 0pt" align="center"><b><span style="font-size: 24pt">Wentworth</span></b><b><span style="font-size: 24pt">\, NC</span></b></div><div style="margin: 0in 0in 0pt" align="center"><b><span style="font-size: 24pt">394-4836</span></b></div><div style="margin: 0in 0in 0pt" align="center"><b>&nbsp\;</b></div><div style="margin: 0in 0in 0pt" align="center"><b><span style="font-size: 28pt">Invites you to join us on</span></b></div><div style="margin: 0in 0in 0pt" align="center"><b><span style="font-size: 28pt">Friday\, August 27\, 2010 </span></b></div><div style="margin: 0in 0in 0pt" align="center"><b><span style="font-size: 28pt">&nbsp\;@ 5.30 pm </span></b></div><div style="margin: 0in 0in 0pt" align="center"><b><span style="font-size: 28pt">For a Wine Tasting </span></b></div><div style="margin: 0in 0in 0pt" align="center"><b><span style="font-size: 28pt">We will bring in the school year with a toast of 6 different wines including ChinquaPenn&rsquo\;s Red Muscadine </span></b></div><div style="margin: 0in 0in 0pt" align="center"><b><span style="font-size: 28pt">$5.00 per person</span></b></div><div style="margin: 0in 0in 0pt" align="center"><b><span style="font-size: 28pt">(must be 21 years of age</span></b><b><span style="font-size: 26pt">)</span></b></div></div>
LOCATION:
UID:e.111.1499
SEQUENCE:3
DTSTAMP:20260424T065410Z
URL:https://business.reidsvillechamber.org/events/details/way-cup-wine-tasting-08-27-2010-1499
END:VEVENT

END:VCALENDAR
