BEGIN:VCALENDAR
VERSION:2.0
PRODID:-//ChamberMaster//Event Calendar 2.0//EN
METHOD:PUBLISH
X-PUBLISHED-TTL:P3D
REFRESH-INTERVAL:P3D
CALSCALE:GREGORIAN
BEGIN:VEVENT
DTSTART:20101001T220000Z
DTEND:20101002T000000Z
X-MICROSOFT-CDO-ALLDAYEVENT:FALSE
SUMMARY:WayCup Coffee Music
DESCRIPTION:COURTNEY WHARTON ON STAGE\n\nFriday October 1st from 6:00 - 8:00 PM\n\n\n\nCome listen to her  angelic voice
X-ALT-DESC;FMTTYPE=text/html:COURTNEY WHARTON ON STAGE<br />\nFriday October 1st from 6:00 - 8:00 PM<br />\n<br />\nCome listen to her&nbsp\; angelic voice 
LOCATION:8460 NC Hwy 87 Reidsville NC
UID:e.111.1520
SEQUENCE:3
DTSTAMP:20260424T035738Z
URL:https://business.reidsvillechamber.org/events/details/waycup-coffee-music-10-01-2010-1520
END:VEVENT

END:VCALENDAR
