BEGIN:VCALENDAR
VERSION:2.0
PRODID:-//ChamberMaster//Event Calendar 2.0//EN
METHOD:PUBLISH
X-PUBLISHED-TTL:P3D
REFRESH-INTERVAL:P3D
CALSCALE:GREGORIAN
BEGIN:VEVENT
DTSTART;VALUE=DATE:20141119
DTEND;VALUE=DATE:20141120
TRANSP:TRANSPARENT
X-MICROSOFT-CDO-ALLDAYEVENT:TRUE
SUMMARY:Wednesday Trivia Night
DESCRIPTION:Wednesday Night Trivia \n\nCome out and enjoy an action packed night filled with games\, music\, and suspense.
X-ALT-DESC;FMTTYPE=text/html:<strong><em><span style="font-size:26px\;">Wednesday Night Trivia&nbsp\;<br />\n<span style="font-size:20px\;">Come out and enjoy an action packed night filled with games\, music\, and suspense.</span></span></em></strong>
LOCATION:Halftime Headquarters 100 South Scales Street Reidsville\, NC 27320
UID:e.111.2965
SEQUENCE:3
DTSTAMP:20260422T161750Z
URL:https://business.reidsvillechamber.org/events/details/wednesday-trivia-night-11-19-2014-2965
END:VEVENT

END:VCALENDAR
