BEGIN:VCALENDAR
VERSION:2.0
PRODID:-//ChamberMaster//Event Calendar 2.0//EN
METHOD:PUBLISH
X-PUBLISHED-TTL:P3D
REFRESH-INTERVAL:P3D
CALSCALE:GREGORIAN
BEGIN:VEVENT
DTSTART:20101211T160000Z
DTEND:20101211T170000Z
X-MICROSOFT-CDO-ALLDAYEVENT:FALSE
SUMMARY:Wentworth Christmas Parade
DESCRIPTION:Wentworth Christmas parade will feature floats\, bands\, and Santa!\n\n	Come enjoy  the parade and visit our Wentworth merchants!
X-ALT-DESC;FMTTYPE=text/html:<p>\n	Wentworth Christmas parade will feature floats\, bands\, and Santa!<br />\n	Come enjoy&nbsp\; the parade and visit our Wentworth merchants!</p>\n
LOCATION:
UID:e.111.1559
SEQUENCE:3
DTSTAMP:20260424T004352Z
URL:https://business.reidsvillechamber.org/events/details/wentworth-christmas-parade-12-11-2010-1559
END:VEVENT

END:VCALENDAR
