BEGIN:VCALENDAR
VERSION:2.0
PRODID:-//ChamberMaster//Event Calendar 2.0//EN
METHOD:PUBLISH
X-PUBLISHED-TTL:P3D
REFRESH-INTERVAL:P3D
CALSCALE:GREGORIAN
BEGIN:VEVENT
DTSTART:20100422T000000Z
DTEND:20100422T020000Z
X-MICROSOFT-CDO-ALLDAYEVENT:FALSE
SUMMARY:WGSR On-Air Candidate Forum
DESCRIPTION:WGSR will be holding an on-air forum of candidates for Rockingham County Commissioners.  The forum will be held on Wednesday\, April 21st\, from 8:00 pm to 10:00 pm.  Repulican candidates will be on from 8:00 - 9:00 pm and Democrat candidates will be on from 9:00 to 10:00 pm. The pubilc can submit questions through email to mark.childrey@wgsr47.com
X-ALT-DESC;FMTTYPE=text/html:<div>WGSR will be holding an on-air forum of candidates for Rockingham County Commissioners.&nbsp\; The forum will be held on Wednesday\, April 21st\, from 8:00 pm to 10:00 pm.&nbsp\; Repulican candidates will be on from 8:00 - 9:00 pm and Democrat candidates will be on from 9:00 to 10:00 pm.</div><div>&nbsp\;</div><div>The pubilc can submit questions through email to mark.childrey@wgsr47.com</div>
LOCATION:
UID:e.111.1366
SEQUENCE:3
DTSTAMP:20260424T132220Z
URL:https://business.reidsvillechamber.org/events/details/wgsr-on-air-candidate-forum-04-21-2010-1366
END:VEVENT

END:VCALENDAR
