BEGIN:VCALENDAR
VERSION:2.0
PRODID:-//ChamberMaster//Event Calendar 2.0//EN
METHOD:PUBLISH
X-PUBLISHED-TTL:P3D
REFRESH-INTERVAL:P3D
CALSCALE:GREGORIAN
BEGIN:VEVENT
DTSTART:20100414T140000Z
DTEND:20100414T160000Z
X-MICROSOFT-CDO-ALLDAYEVENT:FALSE
SUMMARY:Wheelchair repair clinic & open house at Carolina Apothecary\, Inc.
DESCRIPTION:Wheelchair Event/Open House and Repair Clinic
X-ALT-DESC;FMTTYPE=text/html:Wheelchair Event/Open House and Repair Clinic
LOCATION:Carolina Apothecary- Eden 238 W. Kings Hwy\, Eden
UID:e.111.1356
SEQUENCE:3
DTSTAMP:20260424T133759Z
URL:https://business.reidsvillechamber.org/events/details/wheelchair-repair-clinic-open-house-at-carolina-apothecary-inc-04-14-2010-1356
END:VEVENT

END:VCALENDAR
