BEGIN:VCALENDAR
VERSION:2.0
PRODID:-//ChamberMaster//Event Calendar 2.0//EN
METHOD:PUBLISH
X-PUBLISHED-TTL:P3D
REFRESH-INTERVAL:P3D
CALSCALE:GREGORIAN
BEGIN:VEVENT
DTSTART:20100519T190000Z
DTEND:20100519T203000Z
X-MICROSOFT-CDO-ALLDAYEVENT:FALSE
SUMMARY:Windows 7 Seminar
DESCRIPTION:Windows  7 -  Find out what the buzz is all aboutHere's your chance to get up close and personal with the latest productivity enhancements\, as well as safety and security improvements that Windows  7 provides. Come find out how Windows 7 helps your business work the way you want at a special education session being hosted by the Reidsville Chamber of Commerce and the Rockingham County Business and Technology Center. The session is to be held Wednesday\, May 19th at 3:00 p.m. at the Reidsville Chamber of Commerce-513 S. Main St\, Reidsville.\n      Join us for a firsthand look at Windows 7: Doing the tasks you do everyday are easier and faster with Windows 7. You can share files and devices easily\, find the information you need\, stay productive anywhere and protect your data so you can spend more time helping your business grow. See a live demo of Windows 7 Try Windows 7 out for yourself at live demo stations Ask Microsoft Partners questions about upgrading your system Get a chance to win great prizes As an attendee of the event you may be eligible to receive a $150 technology voucher to be used towards technology deployment services from a Microsoft partner of your choice to assist you with the installation of Windows 7 when used in conjunction with a purchase of Windows 7 through a Microsoft Volume License Agreement.      Sign up today by calling the Chamber at 336-349-8481 or clicking the event online registration link below. (Register as a guest if you do not have your company login info)
X-ALT-DESC;FMTTYPE=text/html:<div><div style="margin: 0in 0in 0pt" align="center"><span style="font-size: 14pt">Windows&reg\; 7 - &nbsp\;Find out what the buzz is all about</span></div><div style="margin: 0in 0in 0pt\; text-indent: 0.25in"><span style="font-size: 11pt">Here&rsquo\;s your chance to get up close and personal with the latest productivity enhancements\, as well as safety and security improvements that Windows&reg\; 7 provides. Come find out how Windows 7 helps your business work the way you want at a special education session being hosted by the Reidsville Chamber of Commerce and the Rockingham County Business and Technology Center.&nbsp\;The session is to be held <b>Wednesday\, May 19<sup>th</sup> at 3:00 p.m.</b> at the Reidsville Chamber of Commerce-513 S. Main St\, Reidsville.<br />&nbsp\;&nbsp\;&nbsp\;&nbsp\;&nbsp\; Join us for a firsthand look at Windows 7: Doing the tasks you do everyday are easier and faster with Windows 7. You can share files and devices easily\, find the information you need\, stay productive anywhere and protect your data so you can spend more time helping your business grow. </span></div><ul type="disc" style="margin-top: 0in"><li style="margin: 0in 0in 0pt"><span style="font-size: 11pt">See a live demo of Windows 7 </span></li><li style="margin: 0in 0in 0pt"><span style="font-size: 11pt">Try Windows 7 out for yourself at live demo stations </span></li><li style="margin: 0in 0in 0pt"><span style="font-size: 11pt">Ask Microsoft Partners questions about upgrading your system </span></li><li style="margin: 0in 0in 0pt"><span style="font-size: 11pt">Get a chance to win great prizes </span></li></ul><div style="margin: 0in 0in 0pt"><span style="font-size: 11pt">As an attendee of the event you may be eligible to receive a</span><span style="font-size: 11pt"> <strong><span style="font-weight: normal">$150 technology voucher</span> </strong>to be used towards technology deployment services from a Microsoft partner of your choice to assist you with the installation of Windows 7 when used in conjunction with a purchase of Windows 7 through a Microsoft Volume License Agreement<span style="color: black">. </span></span></div><div><span style="font-size: 11pt\; color: black">&nbsp\;&nbsp\;&nbsp\;&nbsp\; Sign up today by calling the Chamber at 336-349-8481 or clicking the event online registration link below. (Register as a guest if you do not have your company login info)</span></div><div>&nbsp\;</div></div>
LOCATION:
UID:e.111.1387
SEQUENCE:3
DTSTAMP:20260424T132111Z
URL:https://business.reidsvillechamber.org/events/details/windows-7-seminar-05-19-2010-1387
END:VEVENT

END:VCALENDAR
