BEGIN:VCALENDAR
VERSION:2.0
PRODID:-//ChamberMaster//Event Calendar 2.0//EN
METHOD:PUBLISH
X-PUBLISHED-TTL:P3D
REFRESH-INTERVAL:P3D
CALSCALE:GREGORIAN
BEGIN:VEVENT
DTSTART:20100813T210000Z
DTEND:20100814T000000Z
X-MICROSOFT-CDO-ALLDAYEVENT:FALSE
SUMMARY:Wine Tasting at Reidsville Florist
DESCRIPTION:Reidsville Florist & Giftsinvites you to join themFriday\, August 13thfrom 5-8 pmfor a wine tasting featuringAutumn Creek Vineyards Three new wines will be presented at this event
X-ALT-DESC;FMTTYPE=text/html:<div style="text-align: center"><span style="font-size: medium">Reidsville Florist &amp\; Gifts</span></div><div style="text-align: center"><span style="font-size: medium">invites you to join them</span></div><div style="text-align: center"><span style="font-size: medium">Friday\, August 13th</span></div><div style="text-align: center"><span style="font-size: medium">from 5-8 pm</span></div><div style="text-align: center"><span style="font-size: medium">for a wine tasting featuring</span></div><div style="text-align: center"><span style="font-size: medium">Autumn Creek Vineyards</span></div><div style="text-align: center">&nbsp\;</div><div style="text-align: center"><span style="font-size: medium">Three new wines will be presented </span></div><div style="text-align: center"><span style="font-size: medium">at this event</span></div>
LOCATION:119 S. Scales StreetReidsville\, NC 27320
UID:e.111.1489
SEQUENCE:3
DTSTAMP:20260424T065837Z
URL:https://business.reidsvillechamber.org/events/details/wine-tasting-at-reidsville-florist-08-13-2010-1489
END:VEVENT

END:VCALENDAR
