BEGIN:VCALENDAR
VERSION:2.0
PRODID:-//ChamberMaster//Event Calendar 2.0//EN
METHOD:PUBLISH
X-PUBLISHED-TTL:P3D
REFRESH-INTERVAL:P3D
CALSCALE:GREGORIAN
BEGIN:VEVENT
DTSTART:20101210T223000Z
DTEND:20101211T003000Z
X-MICROSOFT-CDO-ALLDAYEVENT:FALSE
SUMMARY:Wine Tasting at WaCup Coffee
DESCRIPTION:Grove Winery will be giving a Holiday Wine Tasting. We will also have live music by Courtney Whorton.
X-ALT-DESC;FMTTYPE=text/html:Grove Winery will be giving a Holiday Wine Tasting. We will also have live music by Courtney Whorton.
LOCATION:WayCup Coffee
UID:e.111.1558
SEQUENCE:3
DTSTAMP:20260424T004316Z
URL:https://business.reidsvillechamber.org/events/details/wine-tasting-at-wacup-coffee-12-10-2010-1558
END:VEVENT

END:VCALENDAR
