BEGIN:VCALENDAR
VERSION:2.0
PRODID:-//ChamberMaster//Event Calendar 2.0//EN
METHOD:PUBLISH
X-PUBLISHED-TTL:P3D
REFRESH-INTERVAL:P3D
CALSCALE:GREGORIAN
BEGIN:VEVENT
DTSTART:20141213T140000Z
DTEND:20141213T170000Z
X-MICROSOFT-CDO-ALLDAYEVENT:FALSE
SUMMARY:Winter Run-Derland 5K
DESCRIPTION:Winter Run-Derland 5K\n\nHosted by Reidsville High School's SADD Club\n\nWinter Run-Derland 5K\n\nWinter Run-Derland 5K Registration
X-ALT-DESC;FMTTYPE=text/html:<div style="text-align: center\;">Winter Run-Derland 5K<br />\nHosted by Reidsville High School&#39\;s SADD Club<br />\n<a href="http://cloud.chambermaster.com/userfiles/UserFiles/chambers/111/File/WINTERRUNDERLANDFLIER2014.pdf">Winter Run-Derland 5K</a><br />\n<a href="http://cloud.chambermaster.com/userfiles/UserFiles/chambers/111/File/RHSWINTERRUNDERLAND5K.docx">Winter Run-Derland 5K Registration</a></div>\n
LOCATION:Reidsville High School 1901 S. Park Drive Reidsville\, NC 27320
UID:e.111.2972
SEQUENCE:3
DTSTAMP:20260422T145243Z
URL:https://business.reidsvillechamber.org/events/details/winter-run-derland-5k-12-13-2014-2972
END:VEVENT

END:VCALENDAR
