BEGIN:VCALENDAR
VERSION:2.0
PRODID:-//ChamberMaster//Event Calendar 2.0//EN
METHOD:PUBLISH
X-PUBLISHED-TTL:P3D
REFRESH-INTERVAL:P3D
CALSCALE:GREGORIAN
BEGIN:VEVENT
DTSTART:20110129T180000Z
DTEND:20110129T220000Z
X-MICROSOFT-CDO-ALLDAYEVENT:FALSE
SUMMARY:WinterWine Wonderland
DESCRIPTION:Betsy-Jeff Penn 4-H Educational Center\n\n	& the Fine Arts Festival of Rockingham County\n\n	present for your enjoyment . . .\n\n	 \n\n	WinterWine Wonderland\n\n	\n\n	 Click Here for full details of WinterWine Wonderland\n\n	\n\n	January 29\, 2011 * 1:00 - 5:00 p.m.\n\n	Betsy-Jeff Penn 4-H Educational Center\n\n	804 Cedar Lane\, Reidsville\, NC 27320
X-ALT-DESC;FMTTYPE=text/html:<p style="text-align: center\;">\n	<br />\n	<strong>Betsy-Jeff Penn 4-H Educational Center<br />\n	&amp\; the Fine Arts Festival of Rockingham County</strong><br />\n	<em>present for your enjoyment . . .</em><br />\n	&nbsp\;<br />\n	<span style="font-size: 28px\;"><span style="font-family: times new roman\;"><span style="color: rgb(64\, 224\, 208)\;"><em><strong>WinterWine Wonderland</strong></em></span></span></span><br />\n	<br />\n	<em><strong>&nbsp\;<a href="http://cloud.chambermaster.com/userfiles/UserFiles/chambers/111/File/WinterWine%20Wonderland%20Flyer.pdf">Click Here for full details of WinterWine Wonderland</a></strong></em><br />\n	<strong><br />\n	<span style="font-size: 16px\;">January 29\, 2011 * 1:00 - 5:00 p.m.</span></strong><br />\n	Betsy-Jeff Penn 4-H Educational Center<br />\n	804 Cedar Lane\, Reidsville\, NC 27320</p>\n<p style="text-align: center\;">\n	<br />\n	<em><strong></strong></em></p>\n
LOCATION:
UID:e.111.1585
SEQUENCE:3
DTSTAMP:20260423T230934Z
URL:https://business.reidsvillechamber.org/events/details/winterwine-wonderland-01-29-2011-1585
END:VEVENT

END:VCALENDAR
