BEGIN:VCALENDAR
VERSION:2.0
PRODID:-//ChamberMaster//Event Calendar 2.0//EN
METHOD:PUBLISH
X-PUBLISHED-TTL:P3D
REFRESH-INTERVAL:P3D
CALSCALE:GREGORIAN
BEGIN:VEVENT
DTSTART:20100225T233000Z
DTEND:20100226T013000Z
X-MICROSOFT-CDO-ALLDAYEVENT:FALSE
SUMMARY:Wolf Creek Harley-Davidson-Girls Night Out...Ladies Only Garage Party
DESCRIPTION:Girls Night Out Ladies Only Garage PartyWolf Creek Harley-DavidsonThursday\, February 25\, 20096:30pm-8:30pmA FREE event to learn about the fun of riding and get "inside information" on how to enter the sport.  We welcome all ladies\, riders and non-riders.Event to Include:    Interactive sessions to familiarize you with motorcycling and our dealership    Wine Tasting by Chinqua Penn Plantation Wine Room    Light Hors d'oeuvres from A Piece of Cake    Chair Massages by Skin and Body Solutionswww.wolfcreekhd.comRSVP to Amy Jacobson 336-273-1101 or ajacobson@hdofgreensboro.com
X-ALT-DESC;FMTTYPE=text/html:<div><p class="MsoNormal" style="text-align: center"><span style="font-size: medium"><b><font face="Arial" color="#000000" size="2"><span style="font-weight: bold\; color: black\; font-family: Arial">Girls Night Out&hellip\;Ladies Only Garage Party</span></font></b></span><b><font face="Arial" color="#000000" size="2"><span style="font-weight: bold\; font-size: 10pt\; color: black\; font-family: Arial"><o:p></o:p></span></font></b></p><div style="text-align: center"><st1:place w:st="on"><st1:placename w:st="on"><font color="#000000"><span style="font-size: 10pt\; color: black\; font-family: Arial">Wolf</span></font></st1:placename><font face="Arial" color="#000000" size="2"><span style="font-size: 10pt\; color: black\; font-family: Arial"> <st1:placename w:st="on">Creek</st1:placename></span></font></st1:place><font face="Arial" color="#000000" size="2"><span style="font-size: 10pt\; color: black\; font-family: Arial"> Harley-Davidson<o:p></o:p></span></font></div><div style="text-align: center"><font face="Arial" color="#000000" size="2"><span style="font-size: 10pt\; color: black\; font-family: Arial">Thursday\, February 25\, 2009<o:p></o:p></span></font></div><div style="text-align: center"><font face="Arial" color="#000000" size="2"><span style="font-size: 10pt\; color: black\; font-family: Arial">6:30pm-8:30pm<o:p></o:p></span></font></div><p class="MsoNormal"><font face="Arial" color="#000000" size="2"><span style="font-size: 10pt\; color: black\; font-family: Arial">A FREE event to learn about the fun of riding and get &ldquo\;inside information&rdquo\; on how to enter the sport.&nbsp\; We welcome all ladies\, riders and non-riders.<o:p></o:p></span></font></p><div><font color="#000000"><span style="font-size: 10pt\; color: black\; font-family: Arial">Event to Include:</span></font></div><div><font color="#000000"><span style="font-size: 10pt\; color: black\; font-family: Arial">&nbsp\;&nbsp\;&nbsp\;&nbsp\;Interactive sessions to familiarize you with motorcycling and our dealership<o:p></o:p></span></font></div><div><font face="Arial" color="#000000" size="2"><span style="font-size: 10pt\; color: black\; font-family: Arial">&nbsp\;&nbsp\;&nbsp\;&nbsp\;Wine Tasting by Chinqua Penn Plantation Wine Room<o:p></o:p></span></font></div><div><font face="Arial" color="#000000" size="2"><span style="font-size: 10pt\; color: black\; font-family: Arial">&nbsp\;&nbsp\;&nbsp\;&nbsp\;Light Hors d&rsquo\;oeuvres from A Piece of Cake<o:p></o:p></span></font></div><div><font face="Arial" color="#000000" size="2"><span style="font-size: 10pt\; color: black\; font-family: Arial">&nbsp\;&nbsp\;&nbsp\;&nbsp\;Chair Massages by Skin and Body Solutions<o:p></o:p></span></font></div><p class="MsoNormal"><font face="Arial" color="#000000" size="2"><span style="font-size: 10pt\; color: black\; font-family: Arial"><a title="blocked::http://www.wolfcreekhd.com/" href="http://www.wolfcreekhd.com/">www.wolfcreekhd.com</a><o:p></o:p></span></font></p><p class="MsoNormal"><span style="font-size: medium"><font face="Arial" color="#000000" size="2"><span style="color: black\; font-family: Arial">RSVP to Amy Jacobson 336-273-1101 or </span></font></span><font face="Arial" color="#000000" size="2"><span style="font-size: 10pt\; color: black\; font-family: Arial"><a title="blocked::mailto:ajacobson@hdofgreensboro.com" href="mailto:ajacobson@hdofgreensboro.com"><span style="font-size: medium">ajacobson@hdofgreensboro.com</span></a><o:p></o:p></span></font></p><p class="MsoNormal"><font face="Arial" color="#000000" size="2"><span style="font-size: 10pt\; color: black\; font-family: Arial"><o:p>&nbsp\;</o:p></span></font></p></div>
LOCATION:Wolf Creek Harley-Davidson2018 Barnes StreetReidsville\, NC
UID:e.111.1322
SEQUENCE:3
DTSTAMP:20260424T170716Z
URL:https://business.reidsvillechamber.org/events/details/wolf-creek-harley-davidson-girls-night-out-ladies-only-garage-party-02-25-2010-1322
END:VEVENT

END:VCALENDAR
