BEGIN:VCALENDAR
VERSION:2.0
PRODID:-//ChamberMaster//Event Calendar 2.0//EN
METHOD:PUBLISH
X-PUBLISHED-TTL:P3D
REFRESH-INTERVAL:P3D
CALSCALE:GREGORIAN
BEGIN:VEVENT
DTSTART:20090804T160000Z
DTEND:20090804T173000Z
X-MICROSOFT-CDO-ALLDAYEVENT:FALSE
SUMMARY:Women in Business Forum
DESCRIPTION:The Women in Business forum will continue the series on "Centered leadership:  How talented women thrive."  This will be a five part series of discussions that will be held during the regular monthly meetings.  This is a program from The McKinsey Quarterly which discuses a new approach to leaderships that can help women become more selfconfident and effective business leaders.  Each of the five parts will be able to stand alone as a great seminar\, so don't hesitate to attend any one or all of the series. Lunch is provided
X-ALT-DESC;FMTTYPE=text/html:<p align="center"><font size="3"><strong>The Women in Business forum will&nbsp\;continue the series on &quot\;Centered leadership:&nbsp\; How talented women thrive.&quot\;&nbsp\; This will be a five part series of discussions that will be held during the regular monthly meetings.&nbsp\; This is a program from <em>The McKinsey Quarterly</em> which discuses a new approach to leaderships that can help women become more selfconfident and effective business leaders.&nbsp\; Each of the five parts will be able to stand alone as a great seminar\, so don&rsquo\;t hesitate to attend any one or all of the series.</strong>&nbsp\;</font></p><p align="center"><font size="3">Lunch is provided</font></p>
LOCATION:513 S. Main StreetReidsville\, NC
UID:e.111.1188
SEQUENCE:3
DTSTAMP:20260425T024028Z
URL:https://business.reidsvillechamber.org/events/details/women-in-business-forum-08-04-2009-1188
END:VEVENT

END:VCALENDAR
