BEGIN:VCALENDAR
VERSION:2.0
PRODID:-//ChamberMaster//Event Calendar 2.0//EN
METHOD:PUBLISH
X-PUBLISHED-TTL:P3D
REFRESH-INTERVAL:P3D
CALSCALE:GREGORIAN
BEGIN:VEVENT
DTSTART:20100521T160000Z
DTEND:20100521T173000Z
X-MICROSOFT-CDO-ALLDAYEVENT:FALSE
SUMMARY:Women In Business Luncheon Sponsored by Protegrity Wealth Management
DESCRIPTION:The Reidsville Chamber of CommerceWomen in Business Forumwill be having a luncheon on May 21st at Noonat the Reidsville Public Library This event is Sponsored by Protegrity Wealth Managementand Barbara Adamswill be addressing the groupon "A Woman's Guide to Financial Freedom"This program is designed to help you build greater financial awareness! Workshop will include a workbook\, a Protegrity Wealth Management Calculator\,and a personal gift from Barbara Adams RSVP at 349-8481 or register online
X-ALT-DESC;FMTTYPE=text/html:<div style="text-align: center"><span style="font-size: medium"><span style="font-family: Arial">The Reidsville Chamber of Commerce</span></span></div><div style="text-align: center"><span style="font-size: large"><span><span style="font-family: Arial">Women in Business Forum</span></span></span></div><div style="text-align: center"><span style="font-size: medium"><span style="font-family: Arial">will be having a luncheon on May 21st at Noon</span></span></div><div style="text-align: center"><span style="font-size: medium"><span style="font-family: Arial">at the Reidsville Public Library</span></span></div><div style="text-align: center">&nbsp\;</div><div style="text-align: center"><span style="font-size: large"><span><span style="font-family: Arial">This event is Sponsored by Protegrity Wealth Management</span></span></span></div><div style="text-align: center"><span style="font-size: medium"><span style="font-family: Arial">and </span><span style="font-size: large"><span style="font-family: Arial">Barbara Adams</span></span></span></div><div style="text-align: center"><span style="font-size: medium"><span style="font-family: Arial">will be addressing the group</span></span></div><div style="text-align: center"><span style="font-size: medium"><span style="font-family: Arial">on </span><span style="font-size: large"><span style="font-family: Arial">&quot\;A Woman&rsquo\;s Guide to Financial Freedom&quot\;</span></span></span></div><div style="text-align: center"><span style="font-size: medium"><span style="font-family: Arial">This program is designed to help you build greater financial awareness</span></span><span style="font-size: medium">!</span></div><div style="text-align: center">&nbsp\;</div><div style="text-align: center">Workshop will include a workbook\, a Protegrity Wealth Management Calculator\,</div><div style="text-align: center">and a personal gift from Barbara Adams</div><div style="text-align: center">&nbsp\;</div><div style="text-align: center"><span style="font-size: medium"><span style="font-family: Arial">RSVP at 349-8481 or register online</span></span></div>
LOCATION:Reidsville Public Library204 W. Morehead StreetDowntown Reidsville
UID:e.111.1386
SEQUENCE:3
DTSTAMP:20260424T132658Z
URL:https://business.reidsvillechamber.org/events/details/women-in-business-luncheon-sponsored-by-protegrity-wealth-management-05-21-2010-1386
END:VEVENT

END:VCALENDAR
