BEGIN:VCALENDAR
VERSION:2.0
PRODID:-//ChamberMaster//Event Calendar 2.0//EN
METHOD:PUBLISH
X-PUBLISHED-TTL:P3D
REFRESH-INTERVAL:P3D
CALSCALE:GREGORIAN
BEGIN:VEVENT
DTSTART:20090919T120000Z
DTEND:20090919T160000Z
X-MICROSOFT-CDO-ALLDAYEVENT:FALSE
SUMMARY:Yard Sale at Academy of Dance
DESCRIPTION:Start you new dance year with our selection of dance shoes\, leotards\, dance t-shirts\, dance costumes\, dance bags\, cd's\, tapes\, dvds \, and lots more.  Not a dancer\, the check us out for that great Halloween Costume you've been searching for.
X-ALT-DESC;FMTTYPE=text/html:<div style="text-align: center"><span style="font-size: larger">Start you new dance year with our selection of dance shoes\, leotards\, dance t-shirts\, dance costumes\, dance bags\, cd&rsquo\;s\, tapes\, dvds \, and lots more.&nbsp\; Not a dancer\, the check us out for that great Halloween Costume you&rsquo\;ve been searching for.</span></div>
LOCATION:510 Park Lane (in front of Academy of Dance Studio)
UID:e.111.1228
SEQUENCE:3
DTSTAMP:20260425T010142Z
URL:https://business.reidsvillechamber.org/events/details/yard-sale-at-academy-of-dance-09-19-2009-1228
END:VEVENT

END:VCALENDAR
