BEGIN:VCALENDAR
VERSION:2.0
PRODID:-//ChamberMaster//Event Calendar 2.0//EN
METHOD:PUBLISH
X-PUBLISHED-TTL:P3D
REFRESH-INTERVAL:P3D
CALSCALE:GREGORIAN
BEGIN:VEVENT
DTSTART:20100323T213000Z
DTEND:20100323T223000Z
X-MICROSOFT-CDO-ALLDAYEVENT:FALSE
SUMMARY:Young Professional's Network seminar
DESCRIPTION:Young Professional's Network (YPN) hosting a seminar"How to start and maintain wealth"Tuesday\, March 23\, 20105:30-6:30 p.m. Chamber officePlease RSVP by Friday March 19th.
X-ALT-DESC;FMTTYPE=text/html:<div style="text-align: center"><strong><span style="font-size: medium"><span style="font-family: Comic Sans MS">Young Professional's Network (YPN) hosting a seminar</span></span></strong></div><div style="text-align: center"><strong><span style="font-size: medium"><span style="font-family: Comic Sans MS">&quot\;How to start and maintain wealth&quot\;</span></span></strong></div><div style="text-align: center"><strong><span style="font-size: medium"><span style="font-family: Comic Sans MS">Tuesday\, March 23\, 2010</span></span></strong></div><div style="text-align: center"><strong><span style="font-size: medium"><span style="font-family: Comic Sans MS">5:30-6:30 p.m. </span></span></strong></div><div style="text-align: center"><strong><span style="font-size: medium"><span style="font-family: Comic Sans MS">Chamber office</span></span></strong></div><div style="text-align: center"><strong><span style="font-size: medium"><span style="font-family: Comic Sans MS">Please RSVP by Friday March 19th.</span></span></strong></div><div style="text-align: center">&nbsp\;</div>
LOCATION:
UID:e.111.1344
SEQUENCE:3
DTSTAMP:20260424T151306Z
URL:https://business.reidsvillechamber.org/events/details/young-professional-s-network-seminar-03-23-2010-1344
END:VEVENT

END:VCALENDAR
