BEGIN:VCALENDAR
VERSION:2.0
PRODID:-//ChamberMaster//Event Calendar 2.0//EN
METHOD:PUBLISH
X-PUBLISHED-TTL:P3D
REFRESH-INTERVAL:P3D
CALSCALE:GREGORIAN
BEGIN:VEVENT
DTSTART:20090721T211500Z
DTEND:20090721T223000Z
X-MICROSOFT-CDO-ALLDAYEVENT:FALSE
SUMMARY:Young Professionals Network (YPN)
DESCRIPTION:Young Professionals Network (YPN) of Reidsville is up and running.  An organizational meeting was held with a group of high energy young professionals from the community.  The Young Professionals Network will host monthly networking events.  Business leaders\, public officials and industry experts are also invited to provide insight into current business issures and excelling the community.  YPN will partner with other community-based and cultural groups to further initiatives that impact our community. YPN is a professional organization designed to engage and introduce young progessional to the area's resources and opportunities.  YPN members gain access to community leaders and equally ambitiious peers. The formula for success as always is what you know\, who you know\, and who knows you.  YPN gives young business professionals the means to make the right connections
X-ALT-DESC;FMTTYPE=text/html:<div align="center"><font size="2"><strong>Young Professionals Network (YPN) of Reidsville is up and running.&nbsp\; An organizational meeting was held with a group of high energy young professionals from the community.&nbsp\; The Young Professionals Network will host monthly networking events.&nbsp\; Business leaders\, public officials and industry experts are also invited to provide insight into current business issures and excelling the community.&nbsp\; YPN will partner with other community-based and cultural groups to further initiatives that impact our community.</strong></font></div><div align="center"><font size="2"><strong>&nbsp\;</strong></font></div><div align="center"><font size="2"><strong>YPN is a professional organization designed to engage and introduce young progessional to the area&rsquo\;s resources and opportunities.&nbsp\; YPN members gain access to community leaders and equally ambitiious peers.</strong></font></div><div align="center"><font size="2"><strong>&nbsp\;</strong></font></div><div align="center"><font size="2"><strong>The formula for success as always is what you know\, who you know\, and who knows you.&nbsp\; YPN gives young business professionals the means to make the right connections</strong></font></div><div align="center">&nbsp\;</div>
LOCATION:Reidsville Chamber of Commerce513 S Main Street
UID:e.111.1189
SEQUENCE:3
DTSTAMP:20260425T041732Z
URL:https://business.reidsvillechamber.org/events/details/young-professionals-network-ypn-07-21-2009-1189
END:VEVENT

END:VCALENDAR
