BEGIN:VCALENDAR
VERSION:2.0
PRODID:-//ChamberMaster//Event Calendar 2.0//EN
METHOD:PUBLISH
X-PUBLISHED-TTL:P3D
REFRESH-INTERVAL:P3D
CALSCALE:GREGORIAN
BEGIN:VEVENT
DTSTART:20090914T220000Z
DTEND:20090915T010000Z
X-MICROSOFT-CDO-ALLDAYEVENT:FALSE
SUMMARY:YPN Disc Golf Outing
DESCRIPTION:YPN Disc Golf Join in the fun with the Young Professional's Network at the Lake's Edge Disc Golf CourseLocated at Lake Reidsville (off Hwy 29 Bus). Monday\, September 14\, 20096:00 p.m.Everyone invited!Meet us at Lake Reidsville Shelter #1
X-ALT-DESC;FMTTYPE=text/html:<div style="text-align: center"><strong><span style="font-family: Comic Sans MS"><span style="font-size: large"><span style="color: #993366">YPN Disc Golf </span></span></span></strong></div><div style="text-align: center"><strong><span style="font-family: Comic Sans MS"><span style="font-size: large"><span style="color: #993366">Join in the fun with the Young Professional's Network at the Lake's Edge Disc Golf Course</span></span></span></strong></div><div style="text-align: center"><strong><span style="font-family: Comic Sans MS"><span style="font-size: large"><span style="color: #993366">Located at Lake Reidsville (off Hwy 29 Bus).</span></span></span></strong></div><div style="text-align: center">&nbsp\;</div><div style="text-align: center"><strong><span style=""><span style="font-family: Comic Sans MS"><span style="font-size: medium">Monday\, September 14\, 2009</span></span></span></strong></div><div style="text-align: center"><strong><span style=""><span style="font-family: Comic Sans MS"><span style="font-size: medium">6:00 p.m.</span></span></span></strong></div><div style="text-align: center"><strong><span style=""><span style="font-family: Comic Sans MS"><span style="font-size: medium">Everyone invited!</span></span></span></strong></div><div style="text-align: center"><strong><span style=""><span style="font-family: Comic Sans MS"><span style="font-size: medium">Meet us at Lake Reidsville Shelter #1</span></span></span></strong></div><div style="text-align: center">&nbsp\;</div>
LOCATION:
UID:e.111.1205
SEQUENCE:3
DTSTAMP:20260425T005627Z
URL:https://business.reidsvillechamber.org/events/details/ypn-disc-golf-outing-09-14-2009-1205
END:VEVENT

END:VCALENDAR
