BEGIN:VCALENDAR
VERSION:2.0
PRODID:-//ChamberMaster//Event Calendar 2.0//EN
METHOD:PUBLISH
X-PUBLISHED-TTL:P3D
REFRESH-INTERVAL:P3D
CALSCALE:GREGORIAN
BEGIN:VEVENT
DTSTART:20091022T213000Z
DTEND:20091022T230000Z
X-MICROSOFT-CDO-ALLDAYEVENT:FALSE
SUMMARY:YPN Pizza & Poker night-POSTPONED
DESCRIPTION:YPN EVENT HAS BEEN POSTPONED Pizza & Poker NightHosted by the Young Professionals Network Thursday\, October 22nd5:30 p.m.at the Chamber office 513 S. Main St.   The Mission of the Reidsville Chamber Young Professionals Network is to provide opportunities for professional growth\, mentoring\, and socializing with other young professionals in the community.
X-ALT-DESC;FMTTYPE=text/html:<div style="text-align: center">&nbsp\;</div><div style="text-align: center"><span style="color: #333399"><span style="background-color: #ffffff"><span><span><span style="font-family: Comic Sans MS"><strong><span style="font-size: x-large"><span style="color: #ff0000"><span style="background-color: #ffff00">YPN EVENT HAS BEEN POSTPONED</span></span></span></strong></span></span></span></span></span></div><div style="text-align: center">&nbsp\;</div><div style="text-align: center"><strike><span style="color: #333399"><span style="background-color: #ffffff"><span><span><span style="font-family: Comic Sans MS"><strong><span style="font-size: x-large">Pizza &amp\; Poker Night</span></strong></span></span></span></span></span></strike></div><div style="text-align: center"><strike><span style="font-size: large"><span style="color: #333399"><span style="background-color: #ffffff"><span><span><span style="font-family: Comic Sans MS"><strong><span>Hosted by the Young Professionals Network</span></strong></span></span></span></span></span></span></strike></div><div style="text-align: center"><strike>&nbsp\;</strike></div><div style="text-align: center"><strike><span style="color: #990033"><span style="font-size: large"><span><span style="background-color: #ffffff"><span><span><span style="font-family: Comic Sans MS"><strong><span>Thursday\, October 22nd</span></strong></span></span></span></span></span></span></span></strike></div><div style="text-align: center"><strike><span style="color: #990033"><span style="font-size: large"><span><span style="background-color: #ffffff"><span><span><span style="font-family: Comic Sans MS"><strong><span>5:30 p.m.</span></strong></span></span></span></span></span></span></span></strike></div><div style="text-align: center"><strike><span style="color: #990033"><span style="font-size: large"><span><span style="background-color: #ffffff"><span><span><span style="font-family: Comic Sans MS"><strong><span>at the Chamber office 513 S. Main St.</span></strong></span></span></span></span></span></span></span></strike></div><div style="text-align: center">&nbsp\;</div><div style="text-align: center">&nbsp\;</div><div style="text-align: left">&nbsp\;</div><div style="text-align: left"><span style="font-size: large"><span style="color: #333399"><span style="background-color: #ffffff"><span><span><span style="font-family: Comic Sans MS"><strong><span><span style="font-size: small"><span style="font-family: Times New Roman"><span style="color: #000000">The Mission of the Reidsville Chamber Young Professionals Network is to provide opportunities for professional growth\, mentoring\, and socializing with other young professionals in the community.</span></span></span></span></strong></span></span></span></span></span></span></div><div style="text-align: center">&nbsp\;</div>
LOCATION:
UID:e.111.1257
SEQUENCE:3
DTSTAMP:20260424T232850Z
URL:https://business.reidsvillechamber.org/events/details/ypn-pizza-poker-night-postponed-10-22-2009-1257
END:VEVENT

END:VCALENDAR
